BEGIN:VCALENDAR
VERSION:2.0
PRODID:-//hacksw/handcal//NONSGML v1.0//EN
CALSCALE:GREGORIAN
BEGIN:VEVENT
LOCATION:Rue Pierre-à-Mazel 10\, 2001 Neuchâtel
DESCRIPTION:Stade de la Maladière\, Neuchâtel
DTSTART:20080817T140000Z
DTEND:20080817T160000Z
SUMMARY:17.08.08 - Neuchâtel Xamax FCS - Grasshopper Club Zürich
URL;VALUE=URI:https://xamax.ch/match/17-08-08-neuchatel-xamax-fcs-grasshopper-club-zurich/
DTSTAMP:20260419T180907Z
UID:69e51a4361c28
END:VEVENT
END:VCALENDAR
