BEGIN:VCALENDAR
VERSION:2.0
PRODID:-//hacksw/handcal//NONSGML v1.0//EN
CALSCALE:GREGORIAN
BEGIN:VEVENT
LOCATION:Badenerstrasse 500\, 8048 Zürich
DESCRIPTION:Stadion Letzigrund\, Zürich
DTSTART:20080223T164500Z
DTEND:20080223T184500Z
SUMMARY:23.02.08 - Grasshopper Club Zürich - Neuchâtel Xamax FCS
URL;VALUE=URI:https://xamax.ch/match/23-02-08-grasshopper-club-zurich-neuchatel-xamax-fcs/
DTSTAMP:20260419T180908Z
UID:69e51a44e20c5
END:VEVENT
END:VCALENDAR
