BEGIN:VCALENDAR
VERSION:2.0
PRODID:-//hacksw/handcal//NONSGML v1.0//EN
CALSCALE:GREGORIAN
BEGIN:VEVENT
LOCATION:Badenerstrasse 500\, 8048 Zürich
DESCRIPTION:Stadion Letzigrund\, Zürich
DTSTART:20110507T154500Z
DTEND:20110507T174500Z
SUMMARY:22.02.04 - Neuchâtel Xamax FCS - FC Wil 1900
URL;VALUE=URI:https://xamax.ch/match/22-02-04-neuchatel-xamax-fcs-fc-wil-1900/
DTSTAMP:20260421T183538Z
UID:69e7c37ac9499
END:VEVENT
END:VCALENDAR
