BEGIN:VCALENDAR
VERSION:2.0
PRODID:-//hacksw/handcal//NONSGML v1.0//EN
CALSCALE:GREGORIAN
BEGIN:VEVENT
LOCATION:\,  
DESCRIPTION:
DTSTART:20031029T183000Z
DTEND:20031029T203000Z
SUMMARY:29.10.03 - Neuchâtel Xamax FCS - FC Wil 1900
URL;VALUE=URI:https://xamax.ch/match/29-10-03-neuchatel-xamax-fcs-fc-wil-1900/
DTSTAMP:20260421T115740Z
UID:69e76634c28d5
END:VEVENT
END:VCALENDAR
