BEGIN:VCALENDAR
VERSION:2.0
PRODID:-//hacksw/handcal//NONSGML v1.0//EN
CALSCALE:GREGORIAN
BEGIN:VEVENT
LOCATION:\,  
DESCRIPTION:
DTSTART:20051118T183000Z
DTEND:20051118T203000Z
SUMMARY:11.11.07 - FC Aarau - Neuchâtel Xamax FCS
URL;VALUE=URI:https://xamax.ch/match/11-11-07-fc-aarau-neuchatel-xamax-fcs/
DTSTAMP:20260421T121831Z
UID:69e76b17d8f57
END:VEVENT
END:VCALENDAR
