BEGIN:VCALENDAR
VERSION:2.0
PRODID:-//hacksw/handcal//NONSGML v1.0//EN
CALSCALE:GREGORIAN
BEGIN:VEVENT
LOCATION:Rue Pierre-à-Mazel 10\, 2001 Neuchâtel
DESCRIPTION:Stade de la Maladière\, Neuchâtel
DTSTART:20071201T164500Z
DTEND:20071201T184500Z
SUMMARY:01.12.07 - Neuchâtel Xamax FCS - Grasshopper Club Zürich
URL;VALUE=URI:https://xamax.ch/match/01-12-07-neuchatel-xamax-fcs-grasshopper-club-zurich/
DTSTAMP:20260419T180907Z
UID:69e51a43364c9
END:VEVENT
END:VCALENDAR
