BEGIN:VCALENDAR
VERSION:2.0
PRODID:-//hacksw/handcal//NONSGML v1.0//EN
CALSCALE:GREGORIAN
BEGIN:VEVENT
LOCATION:\,  
DESCRIPTION:Hardturm\, Zürich
DTSTART:20070901T154500Z
DTEND:20070901T174500Z
SUMMARY:01.09.07 - Grasshopper Club Zürich - Neuchâtel Xamax FCS
URL;VALUE=URI:https://xamax.ch/match/01-09-07-grasshopper-club-zurich-neuchatel-xamax-fcs/
DTSTAMP:20260420T011642Z
UID:69e57e7a1357d
END:VEVENT
END:VCALENDAR
