BEGIN:VCALENDAR
VERSION:2.0
PRODID:-//hacksw/handcal//NONSGML v1.0//EN
CALSCALE:GREGORIAN
BEGIN:VEVENT
LOCATION:\,  
DESCRIPTION:
DTSTART:20040512T173000Z
DTEND:20040512T193000Z
SUMMARY:12.05.04 - Neuchâtel Xamax FCS - FC Basel 1893
URL;VALUE=URI:https://xamax.ch/match/12-05-04-neuchatel-xamax-fcs-fc-basel-1893/
DTSTAMP:20260419T153303Z
UID:69e4f5afa6774
END:VEVENT
END:VCALENDAR
