BEGIN:VCALENDAR
VERSION:2.0
PRODID:-//hacksw/handcal//NONSGML v1.0//EN
CALSCALE:GREGORIAN
BEGIN:VEVENT
LOCATION:\,  
DESCRIPTION:
DTSTART:20040509T141500Z
DTEND:20040509T161500Z
SUMMARY:09.05.04 - BSC Young Boys - Neuchâtel Xamax FCS
URL;VALUE=URI:https://xamax.ch/match/09-05-04-bsc-young-boys-neuchatel-xamax-fcs/
DTSTAMP:20260421T183538Z
UID:69e7c37aafb04
END:VEVENT
END:VCALENDAR
