BEGIN:VCALENDAR
VERSION:2.0
PRODID:-//hacksw/handcal//NONSGML v1.0//EN
CALSCALE:GREGORIAN
BEGIN:VEVENT
LOCATION:\,  
DESCRIPTION:
DTSTART:20030928T141500Z
DTEND:20030928T161500Z
SUMMARY:28.09.03 - FC St.Gallen 1879 - Neuchâtel Xamax FCS
URL;VALUE=URI:https://xamax.ch/match/28-09-03-fc-st-gallen-1879-neuchatel-xamax-fcs/
DTSTAMP:20260423T004312Z
UID:69e96b205f279
END:VEVENT
END:VCALENDAR
