BEGIN:VCALENDAR
VERSION:2.0
PRODID:-//hacksw/handcal//NONSGML v1.0//EN
CALSCALE:GREGORIAN
BEGIN:VEVENT
LOCATION:\,  
DESCRIPTION:
DTSTART:20030719T173000Z
DTEND:20030719T193000Z
SUMMARY:19.07.03 - Neuchâtel Xamax FCS - FC St.Gallen 1879
URL;VALUE=URI:https://xamax.ch/match/19-07-03-neuchatel-xamax-fcs-fc-st-gallen-1879/
DTSTAMP:20260419T180912Z
UID:69e51a4842606
END:VEVENT
END:VCALENDAR
