BEGIN:VCALENDAR
VERSION:2.0
PRODID:-//hacksw/handcal//NONSGML v1.0//EN
CALSCALE:GREGORIAN
BEGIN:VEVENT
LOCATION:\,  
DESCRIPTION:
DTSTART:20030726T173000Z
DTEND:20030726T193000Z
SUMMARY:26.07.03 - FC Basel 1893 - Neuchâtel Xamax FCS
URL;VALUE=URI:https://xamax.ch/match/26-07-03-fc-basel-1893-neuchatel-xamax-fcs/
DTSTAMP:20260419T153303Z
UID:69e4f5af690de
END:VEVENT
END:VCALENDAR
