BEGIN:VCALENDAR
VERSION:2.0
PRODID:-//hacksw/handcal//NONSGML v1.0//EN
CALSCALE:GREGORIAN
BEGIN:VEVENT
LOCATION:\,  
DESCRIPTION:
DTSTART:20050306T150000Z
DTEND:20050306T170000Z
SUMMARY:06.03.05 - FC Zürich - Neuchâtel Xamax FCS
URL;VALUE=URI:https://xamax.ch/match/06-03-05-fc-zurich-neuchatel-xamax-fcs/
DTSTAMP:20260421T193011Z
UID:69e7d0433a208
END:VEVENT
END:VCALENDAR
