BEGIN:VCALENDAR
VERSION:2.0
PRODID:-//hacksw/handcal//NONSGML v1.0//EN
CALSCALE:GREGORIAN
BEGIN:VEVENT
LOCATION:\,  
DESCRIPTION:
DTSTART:20041128T150000Z
DTEND:20041128T170000Z
SUMMARY:28.11.04 - FC Zürich - Neuchâtel Xamax FCS
URL;VALUE=URI:https://xamax.ch/match/28-11-04-fc-zurich-neuchatel-xamax-fcs/
DTSTAMP:20260421T115740Z
UID:69e76634a07c5
END:VEVENT
END:VCALENDAR
