BEGIN:VCALENDAR
VERSION:2.0
PRODID:-//hacksw/handcal//NONSGML v1.0//EN
CALSCALE:GREGORIAN
BEGIN:VEVENT
LOCATION:\,  
DESCRIPTION:
DTSTART:20040328T123000Z
DTEND:20040328T143000Z
SUMMARY:28.03.04 - FC Zürich - Neuchâtel Xamax FCS
URL;VALUE=URI:https://xamax.ch/match/28-03-04-fc-zurich-neuchatel-xamax-fcs/
DTSTAMP:20260420T104409Z
UID:69e60379d9c29
END:VEVENT
END:VCALENDAR
