BEGIN:VCALENDAR
VERSION:2.0
PRODID:-//hacksw/handcal//NONSGML v1.0//EN
CALSCALE:GREGORIAN
BEGIN:VEVENT
LOCATION:\,  
DESCRIPTION:Charrière\, La Chaux-de-Fonds
DTSTART:20060430T123000Z
DTEND:20060430T143000Z
SUMMARY:11.12.05 - Neuchâtel Xamax FCS - Grasshopper Club Zürich
URL;VALUE=URI:https://xamax.ch/match/11-12-05-neuchatel-xamax-fcs-grasshopper-club-zurich/
DTSTAMP:20260419T175342Z
UID:69e516a6e17e9
END:VEVENT
END:VCALENDAR
