BEGIN:VCALENDAR
VERSION:2.0
PRODID:-//hacksw/handcal//NONSGML v1.0//EN
CALSCALE:GREGORIAN
BEGIN:VEVENT
LOCATION:\,  
DESCRIPTION:Charrière\, La Chaux-de-Fonds
DTSTART:20051030T133000Z
DTEND:20051030T153000Z
SUMMARY:11.12.05 - Neuchâtel Xamax FCS - Grasshopper Club Zürich
URL;VALUE=URI:https://xamax.ch/match/11-12-05-neuchatel-xamax-fcs-grasshopper-club-zurich-2/
DTSTAMP:20260419T182806Z
UID:69e51eb69b314
END:VEVENT
END:VCALENDAR
