BEGIN:VCALENDAR
VERSION:2.0
PRODID:-//hacksw/handcal//NONSGML v1.0//EN
CALSCALE:GREGORIAN
BEGIN:VEVENT
LOCATION:Route des Jeunes 16\, 1227 Lancy
DESCRIPTION:Stade de Genève\, Genève
DTSTART:20060917T123000Z
DTEND:20060917T143000Z
SUMMARY:21.08.04 - Grasshopper Club Zürich - Neuchâtel Xamax FCS
URL;VALUE=URI:https://xamax.ch/match/21-08-04-grasshopper-club-zurich-neuchatel-xamax-fcs/
DTSTAMP:20260419T140443Z
UID:69e4e0fb15c24
END:VEVENT
END:VCALENDAR
