BEGIN:VCALENDAR
VERSION:2.0
PRODID:-//hacksw/handcal//NONSGML v1.0//EN
CALSCALE:GREGORIAN
BEGIN:VEVENT
LOCATION:\,  
DESCRIPTION:
DTSTART:20040523T141500Z
DTEND:20040523T161500Z
SUMMARY:23.05.04 - Neuchâtel Xamax FCS - Grasshopper Club Zürich
URL;VALUE=URI:https://xamax.ch/match/23-05-04-neuchatel-xamax-fcs-grasshopper-club-zurich/
DTSTAMP:20260420T104409Z
UID:69e603795894b
END:VEVENT
END:VCALENDAR
