BEGIN:VCALENDAR
VERSION:2.0
PRODID:-//hacksw/handcal//NONSGML v1.0//EN
CALSCALE:GREGORIAN
BEGIN:VEVENT
LOCATION:\,  
DESCRIPTION:
DTSTART:20050501T123000Z
DTEND:20050501T143000Z
SUMMARY:15.02.04 - Grasshopper Club Zürich - Neuchâtel Xamax FCS
URL;VALUE=URI:https://xamax.ch/match/15-02-04-grasshopper-club-zurich-neuchatel-xamax-fcs/
DTSTAMP:20260419T180911Z
UID:69e51a470ba95
END:VEVENT
END:VCALENDAR
