BEGIN:VCALENDAR
VERSION:2.0
PRODID:-//hacksw/handcal//NONSGML v1.0//EN
CALSCALE:GREGORIAN
BEGIN:VEVENT
LOCATION:\,  
DESCRIPTION:
DTSTART:20050713T173000Z
DTEND:20050713T193000Z
SUMMARY:08.08.03 - Neuchâtel Xamax FCS - FC Zürich
URL;VALUE=URI:https://xamax.ch/match/08-08-03-neuchatel-xamax-fcs-fc-zurich/
DTSTAMP:20260420T005750Z
UID:69e57a0ed97d4
END:VEVENT
END:VCALENDAR
