BEGIN:VCALENDAR
VERSION:2.0
PRODID:-//hacksw/handcal//NONSGML v1.0//EN
CALSCALE:GREGORIAN
BEGIN:VEVENT
LOCATION:\,  
DESCRIPTION:
DTSTART:20030914T141500Z
DTEND:20030914T161500Z
SUMMARY:14.09.03 - Neuchâtel Xamax FCS - Grasshopper Club Zürich
URL;VALUE=URI:https://xamax.ch/match/14-09-03-neuchatel-xamax-fcs-grasshopper-club-zurich/
DTSTAMP:20260420T102747Z
UID:69e5ffa310cb4
END:VEVENT
END:VCALENDAR
