BEGIN:VCALENDAR
VERSION:2.0
PRODID:-//hacksw/handcal//NONSGML v1.0//EN
CALSCALE:GREGORIAN
BEGIN:VEVENT
LOCATION:\,  
DESCRIPTION:
DTSTART:20030716T173000Z
DTEND:20030716T193000Z
SUMMARY:16.07.03 - Grasshopper Club Zürich - Neuchâtel Xamax FCS
URL;VALUE=URI:https://xamax.ch/match/16-07-03-grasshopper-club-zurich-neuchatel-xamax-fcs/
DTSTAMP:20260419T175345Z
UID:69e516a9ed4fd
END:VEVENT
END:VCALENDAR
