BEGIN:VCALENDAR
VERSION:2.0
PRODID:-//hacksw/handcal//NONSGML v1.0//EN
CALSCALE:GREGORIAN
BEGIN:VEVENT
LOCATION:Campusweg 15\, 4142 Münchenstein 
DESCRIPTION:Sportanlage "Nachwuchs-Campus" Basel - 11
DTSTART:20220122T150000Z
DTEND:20220122T170000Z
SUMMARY:22.01.22 - FC Bâle 1893 - Neuchâtel Xamax
URL;VALUE=URI:https://xamax.ch/match/21-01-2022-fc-bale-neuchatel-xamax/
DTSTAMP:20260425T104001Z
UID:69ec9a010732b
END:VEVENT
END:VCALENDAR
