BEGIN:VCALENDAR
VERSION:2.0
PRODID:-//hacksw/handcal//NONSGML v1.0//EN
CALSCALE:GREGORIAN
BEGIN:VEVENT
LOCATION:\,  
DESCRIPTION:
DTSTART:20031026T151500Z
DTEND:20031026T171500Z
SUMMARY:26.10.03 - FC Zürich - Neuchâtel Xamax FCS
URL;VALUE=URI:https://xamax.ch/match/26-10-03-fc-zurich-neuchatel-xamax-fcs-2/
DTSTAMP:20260419T182804Z
UID:69e51eb43f54e
END:VEVENT
END:VCALENDAR
