BEGIN:VCALENDAR
VERSION:2.0
PRODID:-//hacksw/handcal//NONSGML v1.0//EN
CALSCALE:GREGORIAN
BEGIN:VEVENT
LOCATION:\,  
DESCRIPTION:
DTSTART:20030808T173000Z
DTEND:20030808T193000Z
SUMMARY:08.08.03 - Neuchâtel Xamax FCS - FC Zürich
URL;VALUE=URI:https://xamax.ch/match/08-08-03-neuchatel-xamax-fcs-fc-zurich-2/
DTSTAMP:20260421T183540Z
UID:69e7c37c45b84
END:VEVENT
END:VCALENDAR
