BEGIN:VCALENDAR
VERSION:2.0
PRODID:-//hacksw/handcal//NONSGML v1.0//EN
CALSCALE:GREGORIAN
BEGIN:VEVENT
LOCATION:Rue Pierre-&#xE0\;-Mazel 10\, 2001 Neuch&#xE2\;tel
DESCRIPTION:Stade de la Maladi&#xE8\;re\, Neuch&#xE2\;tel
DTSTART:20220225T183000Z
DTEND:20220225T203000Z
SUMMARY:25.02.22 - Neuch&#xE2\;tel Xamax FCS - SC Kriens
URL;VALUE=URI:https://xamax.ch/match/25-02-22-neuchtel-xamax-fcs-sc-kriens/
DTSTAMP:20260425T234606Z
UID:69ed523ee3c94
END:VEVENT
END:VCALENDAR
