BEGIN:VCALENDAR
VERSION:2.0
PRODID:-//hacksw/handcal//NONSGML v1.0//EN
CALSCALE:GREGORIAN
BEGIN:VEVENT
LOCATION:Weststrasse 12\, 3604 Thun
DESCRIPTION:Stockhorn Arena\, Thun
DTSTART:20220301T183000Z
DTEND:20220301T203000Z
SUMMARY:01.03.22 - FC Thun - Neuch&#xE2\;tel Xamax FCS
URL;VALUE=URI:https://xamax.ch/match/01-03-22-fc-thun-neuchtel-xamax-fcs/
DTSTAMP:20260419T173629Z
UID:69e5129d6c5f2
END:VEVENT
END:VCALENDAR
