BEGIN:VCALENDAR
VERSION:2.0
PRODID:-//hacksw/handcal//NONSGML v1.0//EN
CALSCALE:GREGORIAN
BEGIN:VEVENT
LOCATION:Rue Pierre-&#xE0\;-Mazel 10\, 2001 Neuch&#xE2\;tel
DESCRIPTION:Stade de la Maladi&#xE8\;re\, Neuch&#xE2\;tel
DTSTART:20220408T173000Z
DTEND:20220408T193000Z
SUMMARY:08.04.22 - Neuch&#xE2\;tel Xamax FCS - FC Thun
URL;VALUE=URI:https://xamax.ch/match/08-04-22-neuchtel-xamax-fcs-fc-thun/
DTSTAMP:20260419T173627Z
UID:69e5129bc855d
END:VEVENT
END:VCALENDAR
