BEGIN:VCALENDAR
VERSION:2.0
PRODID:-//hacksw/handcal//NONSGML v1.0//EN
CALSCALE:GREGORIAN
BEGIN:VEVENT
LOCATION:Horwerstrasse 24\, 6010 Kriens
DESCRIPTION:Stadion Kleinfeld\, Kriens
DTSTART:20220416T160000Z
DTEND:20220416T180000Z
SUMMARY:16.04.22 - SC Kriens - Neuch&#xE2\;tel Xamax FCS
URL;VALUE=URI:https://xamax.ch/match/16-04-22-sc-kriens-neuchtel-xamax-fcs/
DTSTAMP:20260425T213916Z
UID:69ed3484f03e2
END:VEVENT
END:VCALENDAR
