BEGIN:VCALENDAR
VERSION:2.0
PRODID:-//hacksw/handcal//NONSGML v1.0//EN
CALSCALE:GREGORIAN
BEGIN:VEVENT
LOCATION:\,  
DESCRIPTION:
DTSTART:20050501T123000Z
DTEND:20050501T143000Z
SUMMARY:01.05.05 - Neuchâtel Xamax FCS - BSC Young Boys
URL;VALUE=URI:https://xamax.ch/match/01-05-05-neuchatel-xamax-fcs-bsc-young-boys-3/
DTSTAMP:20260419T173628Z
UID:69e5129c7896b
END:VEVENT
END:VCALENDAR
