BEGIN:VCALENDAR
VERSION:2.0
PRODID:-//hacksw/handcal//NONSGML v1.0//EN
CALSCALE:GREGORIAN
BEGIN:VEVENT
LOCATION:Route des Jeunes 16\, 1227 Lancy
DESCRIPTION:Stade de Genève\, Genève
DTSTART:20060917T123000Z
DTEND:20060917T143000Z
SUMMARY:23.05.04 - Neuchâtel Xamax FCS - Grasshopper Club Zürich
URL;VALUE=URI:https://xamax.ch/match/23-05-04-neuchatel-xamax-fcs-grasshopper-club-zurich-2/
DTSTAMP:20260419T212445Z
UID:69e5481d5b4ab
END:VEVENT
END:VCALENDAR
