BEGIN:VCALENDAR
VERSION:2.0
PRODID:-//hacksw/handcal//NONSGML v1.0//EN
CALSCALE:GREGORIAN
BEGIN:VEVENT
LOCATION:Rue Pierre-à-Mazel 10\, 2001 Neuchâtel
DESCRIPTION:Stade de la Maladière\, Neuchâtel
DTSTART:20100927T174500Z
DTEND:20100927T194500Z
SUMMARY:27.09.10 - Neuchâtel Xamax FCS - Grasshopper Club Zürich
URL;VALUE=URI:https://xamax.ch/match/27-09-10-neuchatel-xamax-fcs-grasshopper-club-zurich-2/
DTSTAMP:20260420T041046Z
UID:69e5a7464654b
END:VEVENT
END:VCALENDAR
