BEGIN:VCALENDAR
VERSION:2.0
PRODID:-//hacksw/handcal//NONSGML v1.0//EN
CALSCALE:GREGORIAN
BEGIN:VEVENT
LOCATION:Badenerstrasse 500\, 8048 Zürich
DESCRIPTION:Stadion Letzigrund\, Zürich
DTSTART:20100717T154500Z
DTEND:20100717T174500Z
SUMMARY:17.07.10 - Grasshopper Club Zürich - Neuchâtel Xamax FCS
URL;VALUE=URI:https://xamax.ch/match/17-07-10-grasshopper-club-zurich-neuchatel-xamax-fcs-2/
DTSTAMP:20260420T093454Z
UID:69e5f33e35c88
END:VEVENT
END:VCALENDAR
