BEGIN:VCALENDAR
VERSION:2.0
PRODID:-//hacksw/handcal//NONSGML v1.0//EN
CALSCALE:GREGORIAN
BEGIN:VEVENT
LOCATION:Badenerstrasse 500\, 8048 Zürich
DESCRIPTION:Stadion Letzigrund\, Zürich
DTSTART:20110507T154500Z
DTEND:20110507T174500Z
SUMMARY:07.05.11 - Grasshopper Club Zürich - Neuchâtel Xamax FCS
URL;VALUE=URI:https://xamax.ch/match/07-05-11-grasshopper-club-zurich-neuchatel-xamax-fcs-2/
DTSTAMP:20260421T183539Z
UID:69e7c37b19f5c
END:VEVENT
END:VCALENDAR
