BEGIN:VCALENDAR
VERSION:2.0
PRODID:-//hacksw/handcal//NONSGML v1.0//EN
CALSCALE:GREGORIAN
BEGIN:VEVENT
LOCATION:Rue Pierre-à-Mazel 10\, 2001 Neuchâtel
DESCRIPTION:Stade de la Maladière\, Neuchâtel
DTSTART:20110219T164500Z
DTEND:20110219T184500Z
SUMMARY:19.02.11 - Neuchâtel Xamax FCS - Grasshopper Club Zürich
URL;VALUE=URI:https://xamax.ch/match/19-02-11-neuchatel-xamax-fcs-grasshopper-club-zurich-2/
DTSTAMP:20260420T093454Z
UID:69e5f33e383b7
END:VEVENT
END:VCALENDAR
