BEGIN:VCALENDAR
VERSION:2.0
PRODID:-//hacksw/handcal//NONSGML v1.0//EN
CALSCALE:GREGORIAN
BEGIN:VEVENT
LOCATION:\, 5034 Suhr
DESCRIPTION:Stadion Brügglifeld\, Aarau
DTSTART:20090214T164500Z
DTEND:20090214T184500Z
SUMMARY:19.11.16 - Neuchâtel Xamax FCS - FC Chiasso
URL;VALUE=URI:https://xamax.ch/match/19-11-16-neuchatel-xamax-fcs-fc-chiasso-2/
DTSTAMP:20260421T115741Z
UID:69e7663552809
END:VEVENT
END:VCALENDAR
