BEGIN:VCALENDAR
VERSION:2.0
PRODID:-//hacksw/handcal//NONSGML v1.0//EN
CALSCALE:GREGORIAN
BEGIN:VEVENT
LOCATION:Sankt Jakobs-Strasse 395\, 4052 Basel
DESCRIPTION:St. Jakob-Park\, Basel
DTSTART:20050922T173000Z
DTEND:20050922T193000Z
SUMMARY:01.10.16 - Neuchâtel Xamax FCS - FC Winterthur
URL;VALUE=URI:https://xamax.ch/match/01-10-16-neuchatel-xamax-fcs-fc-winterthur-2/
DTSTAMP:20260419T182804Z
UID:69e51eb41b91c
END:VEVENT
END:VCALENDAR
