BEGIN:VCALENDAR
VERSION:2.0
PRODID:-//hacksw/handcal//NONSGML v1.0//EN
CALSCALE:GREGORIAN
BEGIN:VEVENT
LOCATION:Rue Pierre-à-Mazel 10\, 2001 Neuchâtel
DESCRIPTION:Stade de la Maladière\, Neuchâtel
DTSTART:20110911T140000Z
DTEND:20110911T160000Z
SUMMARY:11.09.11 - Neuchâtel Xamax FCS - Grasshopper Club Zürich
URL;VALUE=URI:https://xamax.ch/match/11-09-11-neuchatel-xamax-fcs-grasshopper-club-zurich-2/
DTSTAMP:20260421T193010Z
UID:69e7d042eb6a5
END:VEVENT
END:VCALENDAR
