BEGIN:VCALENDAR
VERSION:2.0
PRODID:-//hacksw/handcal//NONSGML v1.0//EN
CALSCALE:GREGORIAN
BEGIN:VEVENT
LOCATION:\,  
DESCRIPTION:
DTSTART:20050316T183000Z
DTEND:20050316T203000Z
SUMMARY:16.03.05 - BSC Young Boys - Neuchâtel Xamax FCS
URL;VALUE=URI:https://xamax.ch/match/16-03-05-bsc-young-boys-neuchatel-xamax-fcs-2/
DTSTAMP:20260419T173627Z
UID:69e5129b42ab6
END:VEVENT
END:VCALENDAR
