BEGIN:VCALENDAR
VERSION:2.0
PRODID:-//hacksw/handcal//NONSGML v1.0//EN
CALSCALE:GREGORIAN
BEGIN:VEVENT
LOCATION:Route des Jeunes 16\, 1227 Lancy
DESCRIPTION:Stade de Genève\, Genève
DTSTART:20060917T123000Z
DTEND:20060917T143000Z
SUMMARY:25.05.05 - Neuchâtel Xamax FCS - Grasshopper Club Zürich
URL;VALUE=URI:https://xamax.ch/match/25-05-05-neuchatel-xamax-fcs-grasshopper-club-zurich-3/
DTSTAMP:20260419T151629Z
UID:69e4f1cd625f3
END:VEVENT
END:VCALENDAR
