BEGIN:VCALENDAR
VERSION:2.0
PRODID:-//hacksw/handcal//NONSGML v1.0//EN
CALSCALE:GREGORIAN
BEGIN:VEVENT
LOCATION:Route des Jeunes 16\, 1227 Lancy
DESCRIPTION:Stade de Genève\, Genève
DTSTART:20060917T123000Z
DTEND:20060917T143000Z
SUMMARY:12.03.05 - Grasshopper Club Zürich - Neuchâtel Xamax FCS
URL;VALUE=URI:https://xamax.ch/match/12-03-05-grasshopper-club-zurich-neuchatel-xamax-fcs-3/
DTSTAMP:20260419T173629Z
UID:69e5129d21de2
END:VEVENT
END:VCALENDAR
