BEGIN:VCALENDAR
VERSION:2.0
PRODID:-//hacksw/handcal//NONSGML v1.0//EN
CALSCALE:GREGORIAN
BEGIN:VEVENT
LOCATION:Sankt Jakobs-Strasse 395\, 4052 Basel
DESCRIPTION:St. Jakob-Park\, Basel
DTSTART:20050922T173000Z
DTEND:20050922T193000Z
SUMMARY:06.02.10 - FC Zürich - Neuchâtel Xamax FCS
URL;VALUE=URI:https://xamax.ch/match/06-02-10-fc-zurich-neuchatel-xamax-fcs-2/
DTSTAMP:20260419T182810Z
UID:69e51eba02ddf
END:VEVENT
END:VCALENDAR
