BEGIN:VCALENDAR
VERSION:2.0
PRODID:-//hacksw/handcal//NONSGML v1.0//EN
CALSCALE:GREGORIAN
BEGIN:VEVENT
LOCATION:\,  
DESCRIPTION:
DTSTART:20051118T183000Z
DTEND:20051118T203000Z
SUMMARY:21.11.15 - Neuchâtel Xamax FCS - FC Aarau
URL;VALUE=URI:https://xamax.ch/match/21-11-15-neuchatel-xamax-fcs-fc-aarau-3/
DTSTAMP:20260421T111740Z
UID:69e75cd40ac4a
END:VEVENT
END:VCALENDAR
