BEGIN:VCALENDAR
VERSION:2.0
PRODID:-//hacksw/handcal//NONSGML v1.0//EN
CALSCALE:GREGORIAN
BEGIN:VEVENT
LOCATION:Via Trevano 100\, 6900 Lugano
DESCRIPTION:Stadio di Cornaredo\, Lugano
DTSTART:20190929T140000Z
DTEND:20190929T160000Z
SUMMARY:18.11.05 - FC Thun - Neuchâtel Xamax FCS
URL;VALUE=URI:https://xamax.ch/match/18-11-05-fc-thun-neuchatel-xamax-fcs-4/
DTSTAMP:20260420T112554Z
UID:69e60d4256ae5
END:VEVENT
END:VCALENDAR
