BEGIN:VCALENDAR
VERSION:2.0
PRODID:-//hacksw/handcal//NONSGML v1.0//EN
CALSCALE:GREGORIAN
BEGIN:VEVENT
LOCATION:Badenerstrasse 500\, 8048 Zürich
DESCRIPTION:Stadion Letzigrund\, Zürich
DTSTART:20110507T154500Z
DTEND:20110507T174500Z
SUMMARY:10.08.16 - FC Winterthur - Neuchâtel Xamax FCS
URL;VALUE=URI:https://xamax.ch/match/10-08-16-fc-winterthur-neuchatel-xamax-fcs-4/
DTSTAMP:20260421T193012Z
UID:69e7d044eb438
END:VEVENT
END:VCALENDAR
