BEGIN:VCALENDAR
VERSION:2.0
PRODID:-//hacksw/handcal//NONSGML v1.0//EN
CALSCALE:GREGORIAN
BEGIN:VEVENT
LOCATION:\,  
DESCRIPTION:
DTSTART:20051118T183000Z
DTEND:20051118T203000Z
SUMMARY:18.11.05 - FC Thun - Neuchâtel Xamax FCS
URL;VALUE=URI:https://xamax.ch/match/18-11-05-fc-thun-neuchatel-xamax-fcs-5/
DTSTAMP:20260419T182808Z
UID:69e51eb89012d
END:VEVENT
END:VCALENDAR
