BEGIN:VCALENDAR
VERSION:2.0
PRODID:-//hacksw/handcal//NONSGML v1.0//EN
CALSCALE:GREGORIAN
BEGIN:VEVENT
LOCATION:Rue Pierre-à-Mazel 10\, 2001 Neuchâtel
DESCRIPTION:Stade de la Maladière\, Neuchâtel
DTSTART:20150802T130000Z
DTEND:20150802T150000Z
SUMMARY:31.08.15 - FC Aarau - Neuchâtel Xamax FCS
URL;VALUE=URI:https://xamax.ch/match/31-08-15-fc-aarau-neuchatel-xamax-fcs-16/
DTSTAMP:20260420T031240Z
UID:69e599a8e008d
END:VEVENT
END:VCALENDAR
