BEGIN:VCALENDAR
VERSION:2.0
PRODID:-//hacksw/handcal//NONSGML v1.0//EN
CALSCALE:GREGORIAN
BEGIN:VEVENT
LOCATION:Badenerstrasse 500\, 8048 Zürich
DESCRIPTION:Stadion Letzigrund\, Zürich
DTSTART:20110507T154500Z
DTEND:20110507T174500Z
SUMMARY:19.08.05 - Neuchâtel Xamax FCS - FC Thun
URL;VALUE=URI:https://xamax.ch/match/19-08-05-neuchatel-xamax-fcs-fc-thun-6/
DTSTAMP:20260421T193013Z
UID:69e7d04536a2d
END:VEVENT
END:VCALENDAR
