BEGIN:VCALENDAR
VERSION:2.0
PRODID:-//hacksw/handcal//NONSGML v1.0//EN
CALSCALE:GREGORIAN
BEGIN:VEVENT
LOCATION:\,  
DESCRIPTION:
DTSTART:20050522T140000Z
DTEND:20050522T160000Z
SUMMARY:22.05.05 - Neuchâtel Xamax FCS - FC Zürich
URL;VALUE=URI:https://xamax.ch/match/22-05-05-neuchatel-xamax-fcs-fc-zurich-2/
DTSTAMP:20260419T120059Z
UID:69e4c3fb25586
END:VEVENT
END:VCALENDAR
